BEGIN:VCALENDAR
VERSION:2.0
PRODID:-// eRoom plugin //NONSGML v1.0//EN
CALSCALE:GREGORIAN
BEGIN:VEVENT
UID:eRoom-1776917659
SUMMARY:コロナ禍を生き抜く不動産投資セミナー
LOCATION:Zoom
DESCRIPTION:コロナ禍を生き抜く不動産投資セミナーとは\n
 \n---\n\nコロナ禍を生き抜く不動産投資セミナー is invitin
 g you to a scheduled Zoom meeting.\n\nJoin Zoom Meeting\nhttps://us04web.z
 oom.us/j/71121787419?pwd=MURXU1A2NXYxZWdMN1hxc0R5K2lBdz09\n\nMeeting ID: 7
 1121787419\n
URL;VALUE=URI:https://us04web.zoom.us/j/71121787419?pwd=MURXU1A2NXYxZWdMN1hxc0R5K2lBdz09
DTSTART:20210325T110000Z
DTEND:20210325T120000Z
DTSTAMP:20260423T041419Z
BEGIN:VALARM
ACTION:DISPLAY
DESCRIPTION:Reminder
TRIGGER;RELATED=START:-PT15M
END:VALARM
END:VEVENT
END:VCALENDAR